BEGIN:VCALENDAR
VERSION:2.0
PRODID:icalendar-ruby
CALSCALE:GREGORIAN
METHOD:PUBLISH
BEGIN:VEVENT
DTSTAMP:20260424T181031Z
UID:61-347474@secondbaptistwaycross.com
DTSTART;VALUE=DATE:20260607
DTEND;VALUE=DATE:20260611
CLASS:PUBLIC
CREATED:20260423T085908
DESCRIPTION:
LAST-MODIFIED:20260423T085908
LOCATION:
SUMMARY:Youth Camp
URL;VALUE=URI:https://www.secondbaptistwaycross.com/events/youth-camp/2026-
 06-07
ATTACH;FILENAME=youth_group_FromFRONTOFFICE.jpg;FMTTYPE=image/jpeg:https://
 dq5pwpg1q8ru0.cloudfront.net/2026/04/23/12/59/07/95d0fe49-c44d-4325-b82a-b
 071158c902f/youth_group_FromFRONTOFFICE.jpg
END:VEVENT
END:VCALENDAR
