BEGIN:VCALENDAR
VERSION:2.0
PRODID:icalendar-ruby
CALSCALE:GREGORIAN
METHOD:PUBLISH
BEGIN:VEVENT
DTSTAMP:20260426T022130Z
UID:7-351901@secondbaptistwaycross.com
DTSTART:20261021T213000Z
DTEND:20261021T220500Z
CLASS:PUBLIC
CREATED:20260425T214707
DESCRIPTION:Join us for a meal each Wednesday evening before our ministry e
 vents and opportunities. We serve a meal starting at 5:30. Suggested donat
 ions: $5 individual\, $15 family. \nOur monthly rotation of meals are tac
 os\, hamburger/hotdog\, chicken tenders\, &amp\; breakfast night. 
LAST-MODIFIED:20260425T214707
LOCATION:Social Hall
SUMMARY:Wednesday Night Supper
URL;VALUE=URI:https://www.secondbaptistwaycross.com/events/wednesday-night-
 supper/2026-10-21
ATTACH;FILENAME=Church banner (2).png;FMTTYPE=image/png:https://dq5pwpg1q8r
 u0.cloudfront.net/2025/11/11/18/50/45/ffcb883a-10f6-43ae-9867-8ae4897fb2e0
 /Church%20banner%20(2).png
END:VEVENT
END:VCALENDAR
