BEGIN:VCALENDAR
VERSION:2.0
PRODID:icalendar-ruby
CALSCALE:GREGORIAN
METHOD:PUBLISH
BEGIN:VEVENT
DTSTAMP:20260424T180334Z
UID:60-347471@secondbaptistwaycross.com
DTSTART:20260531T220000Z
DTEND:20260605T003000Z
CLASS:PUBLIC
CREATED:20260423T085005
DESCRIPTION:
LAST-MODIFIED:20260423T085005
LOCATION:
SUMMARY:Vacation Bible School
URL;VALUE=URI:https://www.secondbaptistwaycross.com/events/vacation-bible-s
 chool/2026-05-31
ATTACH;FILENAME=01_IlluminationStation_FullColor.jpg;FMTTYPE=image/jpeg:htt
 ps://dq5pwpg1q8ru0.cloudfront.net/2026/04/23/12/50/05/96942a4a-c12f-43d9-a
 535-659219cf224d/01_IlluminationStation_FullColor.jpg
END:VEVENT
END:VCALENDAR
