BEGIN:VCALENDAR
VERSION:2.0
PRODID:icalendar-ruby
CALSCALE:GREGORIAN
METHOD:PUBLISH
BEGIN:VEVENT
DTSTAMP:20260424T095328Z
UID:21-348775@secondbaptistwaycross.com
DTSTART:20261028T221500Z
DTEND:20261028T233000Z
CLASS:PUBLIC
CREATED:20260423T230411
DESCRIPTION:
LAST-MODIFIED:20260423T230411
LOCATION:
SUMMARY:Oasis
URL;VALUE=URI:https://www.secondbaptistwaycross.com/events/oasis--21/2026-1
 0-28
ATTACH;FILENAME=Oasis.png;FMTTYPE=image/png:https://dq5pwpg1q8ru0.cloudfron
 t.net/2025/09/04/19/23/30/66134a6c-ef13-4259-bbb8-8ed089eb1ed6/Oasis.png
END:VEVENT
END:VCALENDAR
