BEGIN:VCALENDAR
VERSION:2.0
PRODID:icalendar-ruby
CALSCALE:GREGORIAN
METHOD:PUBLISH
BEGIN:VEVENT
DTSTAMP:20260424T180653Z
UID:62-347473@secondbaptistwaycross.com
DTSTART:20260517T133000Z
DTEND:20260517T143000Z
CLASS:PUBLIC
CREATED:20260423T085736
DESCRIPTION:
LAST-MODIFIED:20260423T085736
LOCATION:
SUMMARY:Graduate Recognition
URL;VALUE=URI:https://www.secondbaptistwaycross.com/events/graduate-recogni
 tion/2026-05-17
ATTACH;FILENAME=diploma_28409apc.jpg;FMTTYPE=image/jpeg:https://dq5pwpg1q8r
 u0.cloudfront.net/2026/04/23/12/57/36/b832ded1-e84b-431f-87c0-e78f0ac9ad9e
 /diploma_28409apc.jpg
END:VEVENT
END:VCALENDAR
